BEGIN:VCALENDAR
VERSION:2.0
PRODID:icalendar-ruby
CALSCALE:GREGORIAN
X-WR-CALNAME:Anna Mateur
BEGIN:VTIMEZONE
TZID:Europe/Berlin
BEGIN:DAYLIGHT
DTSTART:20260329T030000
TZOFFSETFROM:+0100
TZOFFSETTO:+0200
RRULE:FREQ=YEARLY;BYDAY=-1SU;BYMONTH=3
TZNAME:CEST
END:DAYLIGHT
BEGIN:STANDARD
DTSTART:20261025T020000
TZOFFSETFROM:+0200
TZOFFSETTO:+0100
RRULE:FREQ=YEARLY;BYDAY=-1SU;BYMONTH=10
TZNAME:CET
END:STANDARD
END:VTIMEZONE
BEGIN:VEVENT
DTSTAMP:20260420T151705Z
UID:401c43e0-376b-45d0-871b-29dd5048a556
DTSTART;TZID=Europe/Berlin:20260905T200000
DTEND;TZID=Europe/Berlin:20260905T221500
DESCRIPTION:https://rampensau.de//kuenstlers/anna-mateur/programm/detail/78
 ?backPid=244&cHash=8ff39cd742d0d2242c1773556404f9fe
LOCATION:Berlin\, Bar jeder Vernunft
SUMMARY:\nKaoshüter
END:VEVENT
END:VCALENDAR
